BEGIN:VCALENDAR
VERSION:2.0
PRODID:-//まきのさんの道の駅・佐川 - ECPv6.15.12.2//NONSGML v1.0//EN
CALSCALE:GREGORIAN
METHOD:PUBLISH
X-WR-CALNAME:まきのさんの道の駅・佐川
X-ORIGINAL-URL:https://makinosan.jp
X-WR-CALDESC:まきのさんの道の駅・佐川 のイベント
REFRESH-INTERVAL;VALUE=DURATION:PT1H
X-Robots-Tag:noindex
X-PUBLISHED-TTL:PT1H
BEGIN:VTIMEZONE
TZID:Asia/Tokyo
BEGIN:STANDARD
TZOFFSETFROM:+0900
TZOFFSETTO:+0900
TZNAME:JST
DTSTART:20250101T000000
END:STANDARD
END:VTIMEZONE
BEGIN:VEVENT
DTSTART;VALUE=DATE:20260130
DTEND;VALUE=DATE:20260202
DTSTAMP:20260421T172024
CREATED:20250713T021311Z
LAST-MODIFIED:20260117T070537Z
UID:1748-1769731200-1769990399@makinosan.jp
SUMMARY:出店：あきちゃん唐揚げ
DESCRIPTION:［10:00-16:00 ※雨天中止の場合あり］高知県産鶏（はちきん地鶏・四万十鶏 等）を使った唐揚げを販売。ジューシーで、メニューの種類も豊富な人気店です！ \n［Instagram］akichan.kouti
URL:https://makinosan.jp/event/%e5%87%ba%e5%ba%97%ef%bc%9a%e3%81%82%e3%81%8d%e3%81%a1%e3%82%83%e3%82%93%e5%94%90%e6%8f%9a%e3%81%92/
CATEGORIES:出店グルメ
END:VEVENT
BEGIN:VEVENT
DTSTART;VALUE=DATE:20260201
DTEND;VALUE=DATE:20260202
DTSTAMP:20260421T172024
CREATED:20250905T054218Z
LAST-MODIFIED:20260122T013031Z
UID:2021-1769904000-1769990399@makinosan.jp
SUMMARY:出店：Core385
DESCRIPTION:［11:00-15:00］装いを彩ってくれる、キラリと華やかなハンドメイドアイテムを販売。明るく元気をもらえるような作家さん自身のファンも多数！ \n［Instagram］385core
URL:https://makinosan.jp/event/%e5%87%ba%e5%ba%97%ef%bc%9acore385-7/
CATEGORIES:出店
END:VEVENT
BEGIN:VEVENT
DTSTART;VALUE=DATE:20260211
DTEND;VALUE=DATE:20260212
DTSTAMP:20260421T172024
CREATED:20250603T050841Z
LAST-MODIFIED:20260115T030615Z
UID:1504-1770768000-1770854399@makinosan.jp
SUMMARY:出店：ZELE.Riiiii
DESCRIPTION:［11:00-16:00］身につければ、華やかにも爽やかにもなる透明感が涼やかでかわいいアクセサリーの数々。お子様も喜ぶポップなアイテムやワークショップも。 \n［Instagram］zele.riiiii
URL:https://makinosan.jp/event/%e5%87%ba%e5%ba%97%ef%bc%9azele-riiiii/
CATEGORIES:出店
END:VEVENT
BEGIN:VEVENT
DTSTART;VALUE=DATE:20260214
DTEND;VALUE=DATE:20260216
DTSTAMP:20260421T172024
CREATED:20260125T073950Z
LAST-MODIFIED:20260125T074054Z
UID:2500-1771027200-1771199999@makinosan.jp
SUMMARY:【多目的スペース】さかわでワークショップ〈バイカオウレン苔玉づくり〉
DESCRIPTION:町出身の植物学者・牧野富太郎博士が愛したお花”バイカオウレン”が咲く季節。\n道の駅で楽しいものづくり体験はいかがですか♪（事前予約不要です）\nバイカオウレンのお花見や佐川町散策とあわせて、ぜひお楽しみください！ \n\n●2月14日（土）・15日（日）開催のワークショップ\n〈バイカオウレン苔玉づくり〉10:00～15:00（予定）\n苔や山野草に詳しい佐川町の”コケオ”さんこと工房暁月さんによる苔玉づくりのワークショップ。\n可憐なバイカオウレンのお花をご自宅で飾って楽しめる苔玉、作ってみませんか？\n[Instagram] koubou_akathuki \n※事前予約不要ですが、一度に体験できる人数には限りがあるため、お待ちいただく場合があります。\n※諸般の事情により中止や開催時間変更等になる場合があります。
URL:https://makinosan.jp/event/%e3%80%90%e5%a4%9a%e7%9b%ae%e7%9a%84%e3%82%b9%e3%83%9a%e3%83%bc%e3%82%b9%e3%80%91%e3%81%95%e3%81%8b%e3%82%8f%e3%81%a7%e3%83%af%e3%83%bc%e3%82%af%e3%82%b7%e3%83%a7%e3%83%83%e3%83%97%e3%80%88%e3%83%90/
CATEGORIES:多目的スペース
END:VEVENT
BEGIN:VEVENT
DTSTART;VALUE=DATE:20260214
DTEND;VALUE=DATE:20260215
DTSTAMP:20260421T172024
CREATED:20250530T054232Z
LAST-MODIFIED:20260207T043933Z
UID:1416-1771027200-1771113599@makinosan.jp
SUMMARY:出店：nikolaschka
DESCRIPTION:［10:00-16:00］ピアスやイヤリング等、アクセサリーを中心としたスタイルや生活を彩るアイテムを販売。 \n［Instagram］nikolaschka.shop
URL:https://makinosan.jp/event/%e5%87%ba%e5%ba%97-nikolaschka/
CATEGORIES:出店
END:VEVENT
BEGIN:VEVENT
DTSTART;VALUE=DATE:20260214
DTEND;VALUE=DATE:20260215
DTSTAMP:20260421T172024
CREATED:20251217T035353Z
LAST-MODIFIED:20260115T031101Z
UID:2360-1771027200-1771113599@makinosan.jp
SUMMARY:出店：レストラン モルゲン
DESCRIPTION:［10:00-16:00］愛媛県久万高原町から出店！洋食屋さんのジューシーな肉まんを召し上がれ！ \n［Instagram］morgen_1972
URL:https://makinosan.jp/event/%e5%87%ba%e5%ba%97%ef%bc%9a%e3%83%ac%e3%82%b9%e3%83%88%e3%83%a9%e3%83%b3-%e3%83%a2%e3%83%ab%e3%82%b2%e3%83%b3-4/
CATEGORIES:出店グルメ
END:VEVENT
BEGIN:VEVENT
DTSTART;VALUE=DATE:20260217
DTEND;VALUE=DATE:20260218
DTSTAMP:20260421T172024
CREATED:20250813T080907Z
LAST-MODIFIED:20260115T032557Z
UID:1928-1771286400-1771372799@makinosan.jp
SUMMARY:出店：あ・わ
DESCRIPTION:［11:00-15:00］佐川町のお隣・須崎市の安和からご出店！モリンガ茶、バタフライピー（茶葉 他）、布小物等を販売。 \n［Instagram］shuuraku_awa_
URL:https://makinosan.jp/event/%e5%87%ba%e5%ba%97%ef%bc%9a%e3%81%82%e3%83%bb%e3%82%8f-3/
CATEGORIES:出店
END:VEVENT
BEGIN:VEVENT
DTSTART;VALUE=DATE:20260221
DTEND;VALUE=DATE:20260222
DTSTAMP:20260421T172024
CREATED:20250806T045624Z
LAST-MODIFIED:20260115T033033Z
UID:1873-1771632000-1771718399@makinosan.jp
SUMMARY:出店：corretto.RINDA
DESCRIPTION:［10:00-16:00］動物や花モチーフが華やかでかわいい！レジンとビーズのアクセサリーや雑貨を販売。 \n［Instagram］corretto.handmade
URL:https://makinosan.jp/event/%e5%87%ba%e5%ba%97%ef%bc%9acorretto-rinda-3/
CATEGORIES:出店
END:VEVENT
BEGIN:VEVENT
DTSTART;VALUE=DATE:20260221
DTEND;VALUE=DATE:20260223
DTSTAMP:20260421T172024
CREATED:20260125T074425Z
LAST-MODIFIED:20260125T074520Z
UID:2505-1771632000-1771804799@makinosan.jp
SUMMARY:【多目的スペース】さかわでワークショップ〈ジビエレザーでミニチュアづくり〉
DESCRIPTION:町出身の植物学者・牧野富太郎博士が愛したお花”バイカオウレン”が咲く季節。\n道の駅で楽しいものづくり体験はいかがですか♪（事前予約不要です）\nバイカオウレンのお花見や佐川町散策とあわせて、ぜひお楽しみください！ \n\n●2月21日（土）・22日（日）開催のワークショップ\n〈ジビエレザーでミニチュアづくり〉10:00～15:00（予定）\n県内唯一?!ジビエレザーの革職人”ナメロウ”さんこと佐川町の革工房TAILさんによるワークショップ。\n県内で捕れたイノシシ革を使ってレザークラフト体験。革と糸の色を選んで自分だけのミニチュアアイテムを作ってみよう！\n[Instagram] tail_namerou \n※事前予約不要ですが、一度に体験できる人数には限りがあるため、お待ちいただく場合があります。\n※諸般の事情により中止や開催時間変更等になる場合があります。
URL:https://makinosan.jp/event/%e3%80%90%e5%a4%9a%e7%9b%ae%e7%9a%84%e3%82%b9%e3%83%9a%e3%83%bc%e3%82%b9%e3%80%91%e3%81%95%e3%81%8b%e3%82%8f%e3%81%a7%e3%83%af%e3%83%bc%e3%82%af%e3%82%b7%e3%83%a7%e3%83%83%e3%83%97%e3%80%88%e3%82%b8/
CATEGORIES:多目的スペース
END:VEVENT
BEGIN:VEVENT
DTSTART;VALUE=DATE:20260223
DTEND;VALUE=DATE:20260224
DTSTAMP:20260421T172024
CREATED:20260125T074953Z
LAST-MODIFIED:20260125T075108Z
UID:2508-1771804800-1771891199@makinosan.jp
SUMMARY:【多目的スペース】さかわでワークショップ〈編み花でかわいいアクセサリーづくり〉
DESCRIPTION:町出身の植物学者・牧野富太郎博士が愛したお花”バイカオウレン”が咲く季節。\n道の駅で楽しいものづくり体験はいかがですか♪（事前予約不要です）\nバイカオウレンのお花見や佐川町散策とあわせて、ぜひお楽しみください！ \n\n●2月23日（月祝）開催のワークショップ\n〈編み花でかわいいアクセサリーづくり〉10:00～15:00（予定）\n牧野博士の人形も編み編み♪編み物愛あふれる手編みの先生、佐川町の工房玻璃さんによるワークショップ。\n編み花のパーツを選んで、ブローチやヘアピンなど自分好みのアクセサリーを作ってみよう♪\n[Instagram] kobo.hari \n※事前予約不要ですが、一度に体験できる人数には限りがあるため、お待ちいただく場合があります。\n※諸般の事情により中止や開催時間変更等になる場合があります。
URL:https://makinosan.jp/event/%e3%80%90%e5%a4%9a%e7%9b%ae%e7%9a%84%e3%82%b9%e3%83%9a%e3%83%bc%e3%82%b9%e3%80%91%e3%81%95%e3%81%8b%e3%82%8f%e3%81%a7%e3%83%af%e3%83%bc%e3%82%af%e3%82%b7%e3%83%a7%e3%83%83%e3%83%97%e3%80%88%e7%b7%a8/
CATEGORIES:多目的スペース
END:VEVENT
BEGIN:VEVENT
DTSTART;VALUE=DATE:20260223
DTEND;VALUE=DATE:20260224
DTSTAMP:20260421T172024
CREATED:20250724T065824Z
LAST-MODIFIED:20260131T062530Z
UID:1851-1771804800-1771891199@makinosan.jp
SUMMARY:出店：ZELE.Riiiii
DESCRIPTION:［11:00-16:00］身につければ、華やかにも爽やかにもなる透明感が涼やかでかわいいアクセサリーの数々。お子様も喜ぶポップなアイテムやワークショップも。 \n［Instagram］zele.riiiii
URL:https://makinosan.jp/event/%e5%87%ba%e5%ba%97%ef%bc%9azele-riiiii-5/
CATEGORIES:出店
END:VEVENT
BEGIN:VEVENT
DTSTART;VALUE=DATE:20260224
DTEND;VALUE=DATE:20260225
DTSTAMP:20260421T172024
CREATED:20250612T055245Z
LAST-MODIFIED:20260216T060530Z
UID:1616-1771891200-1771977599@makinosan.jp
SUMMARY:出店：彩いろ結び
DESCRIPTION:［11:00-15:00］水引・土佐和紙・レジン・プラバン等を使用したアクセサリー＆雑貨やオリジナルぬいぐるみを販売。 \n［Instagram］iroiromusubi
URL:https://makinosan.jp/event/%e5%87%ba%e5%ba%97%ef%bc%9a%e5%bd%a9%e3%81%84%e3%82%8d%e7%b5%90%e3%81%b3/
CATEGORIES:出店
END:VEVENT
BEGIN:VEVENT
DTSTART;VALUE=DATE:20260228
DTEND;VALUE=DATE:20260301
DTSTAMP:20260421T172024
CREATED:20251201T072301Z
LAST-MODIFIED:20260221T051536Z
UID:2310-1772236800-1772323199@makinosan.jp
SUMMARY:出店：レストラン モルゲン
DESCRIPTION:［10:00-16:00］愛媛県久万高原町から出店！洋食屋さんのジューシーな肉まんを召し上がれ！ \n［Instagram］morgen_1972
URL:https://makinosan.jp/event/%e5%87%ba%e5%ba%97%ef%bc%9a%e3%83%ac%e3%82%b9%e3%83%88%e3%83%a9%e3%83%b3-%e3%83%a2%e3%83%ab%e3%82%b2%e3%83%b3/
CATEGORIES:出店グルメ
END:VEVENT
BEGIN:VEVENT
DTSTART;VALUE=DATE:20260228
DTEND;VALUE=DATE:20260302
DTSTAMP:20260421T172024
CREATED:20250530T060933Z
LAST-MODIFIED:20260228T024107Z
UID:1449-1772236800-1772409599@makinosan.jp
SUMMARY:出店：RiVi DENIM
DESCRIPTION:［10:00-16:00］古着デニムをホームクリーニングし、バッグやポーチ・ヘアアクセサリー・サコッシュ等、様々なアイテムにリメイクし販売！ \n［Instagram］rivi_denim
URL:https://makinosan.jp/event/%e5%87%ba%e5%ba%97%ef%bc%9arivi-denim/
CATEGORIES:出店
END:VEVENT
BEGIN:VEVENT
DTSTART;VALUE=DATE:20260228
DTEND;VALUE=DATE:20260302
DTSTAMP:20260421T172024
CREATED:20260125T075324Z
LAST-MODIFIED:20260125T075324Z
UID:2512-1772236800-1772409599@makinosan.jp
SUMMARY:【多目的スペース】さかわでワークショップ〈木－ホルダー＆木の指輪づくり〉
DESCRIPTION:町出身の植物学者・牧野富太郎博士が愛したお花”バイカオウレン”が咲く季節。\n道の駅で楽しいものづくり体験はいかがですか♪（事前予約不要です）\nバイカオウレンのお花見や佐川町散策とあわせて、ぜひお楽しみください！ \n\n●2月28日（土）・3月1日（日）開催のワークショップ\n〈木－ホルダー＆木の指輪づくり〉10:00～15:00（予定）\n“木を育てる楽しさ”を大切にするものづくり職人、佐川町の883工房さんによるワークショップ。\n好きな木・形を選んで磨き、世界にひとつのアイテムづくりを。木－ホルダーには名前や絵の刻印もOK！\n[Instagram] 883koubou_papasankoubou \n※事前予約不要ですが、一度に体験できる人数には限りがあるため、お待ちいただく場合があります。\n※諸般の事情により中止や開催時間変更等になる場合があります。
URL:https://makinosan.jp/event/%e3%80%90%e5%a4%9a%e7%9b%ae%e7%9a%84%e3%82%b9%e3%83%9a%e3%83%bc%e3%82%b9%e3%80%91%e3%81%95%e3%81%8b%e3%82%8f%e3%81%a7%e3%83%af%e3%83%bc%e3%82%af%e3%82%b7%e3%83%a7%e3%83%83%e3%83%97%e3%80%88%e6%9c%a8/
CATEGORIES:多目的スペース
END:VEVENT
END:VCALENDAR