BEGIN:VCALENDAR
VERSION:2.0
PRODID:-//まきのさんの道の駅・佐川 - ECPv6.15.12.2//NONSGML v1.0//EN
CALSCALE:GREGORIAN
METHOD:PUBLISH
X-WR-CALNAME:まきのさんの道の駅・佐川
X-ORIGINAL-URL:https://makinosan.jp
X-WR-CALDESC:まきのさんの道の駅・佐川 のイベント
REFRESH-INTERVAL;VALUE=DURATION:PT1H
X-Robots-Tag:noindex
X-PUBLISHED-TTL:PT1H
BEGIN:VTIMEZONE
TZID:Asia/Tokyo
BEGIN:STANDARD
TZOFFSETFROM:+0900
TZOFFSETTO:+0900
TZNAME:JST
DTSTART:20240101T000000
END:STANDARD
END:VTIMEZONE
BEGIN:VEVENT
DTSTART;VALUE=DATE:20260111
DTEND;VALUE=DATE:20260112
DTSTAMP:20260422T092009
CREATED:20250713T022517Z
LAST-MODIFIED:20251228T011253Z
UID:1759-1768089600-1768175999@makinosan.jp
SUMMARY:出店：ZELE.Riiiii
DESCRIPTION:［11:00-16:00］身につければ、華やかにも爽やかにもなる透明感が涼やかでかわいいアクセサリーの数々。お子様も喜ぶポップなアイテムやワークショップも。 \n［Instagram］zele.riiiii
URL:https://makinosan.jp/event/%e5%87%ba%e5%ba%97%ef%bc%9azele-riiiii-3/
CATEGORIES:出店
END:VEVENT
BEGIN:VEVENT
DTSTART;VALUE=DATE:20260110
DTEND;VALUE=DATE:20260111
DTSTAMP:20260422T092009
CREATED:20251217T032551Z
LAST-MODIFIED:20251217T032633Z
UID:2347-1768003200-1768089599@makinosan.jp
SUMMARY:出店：rayuna
DESCRIPTION:［10:00-16:00］ハンドメイド布小物や、カスタムクレヨン等を販売。日常を彩る、カラフルで個性的なアイテムがいっぱい！ \n［Instagram］rayuna.215
URL:https://makinosan.jp/event/2347/
CATEGORIES:出店
END:VEVENT
BEGIN:VEVENT
DTSTART;VALUE=DATE:20260109
DTEND;VALUE=DATE:20260110
DTSTAMP:20260422T092009
CREATED:20260103T075638Z
LAST-MODIFIED:20260103T075638Z
UID:2426-1767916800-1768003199@makinosan.jp
SUMMARY:🐱まきにゃん110番の日（前日）PR活動
DESCRIPTION:［10:00頃〜（20〜30分程）］「110番の日（1/10）」に先がけて2025年1月9日（金）、当道の駅PR隊長（非公認）まきにゃんが佐川警察署の皆さんと110番通報の適切な利用についてPR活動を行います。 \nしかも！当日のまきにゃんは、一日警察署長！署長としての活動中のまきにゃんにぜひ会いに来てください。 \n短い時間にはなりますが、緊急通報電話「110」や警察相談専用電話「♯9110」について、皆様と周知・共有できるひとときになればと思っております。
URL:https://makinosan.jp/event/%f0%9f%90%b1%e3%81%be%e3%81%8d%e3%81%ab%e3%82%83%e3%82%93110%e7%95%aa%e3%81%ae%e6%97%a5%ef%bc%88%e5%89%8d%e6%97%a5%ef%bc%89pr%e6%b4%bb%e5%8b%95/
CATEGORIES:まきにゃん
END:VEVENT
BEGIN:VEVENT
DTSTART;VALUE=DATE:20260101
DTEND;VALUE=DATE:20260103
DTSTAMP:20260422T092009
CREATED:20251201T061423Z
LAST-MODIFIED:20251213T053351Z
UID:2304-1767225600-1767398399@makinosan.jp
SUMMARY:道の駅 全館休業
DESCRIPTION:1/1・2は道の駅 全館休業となります。ご了承のほどよろしくお願いします。
URL:https://makinosan.jp/event/%e9%81%93%e3%81%ae%e9%a7%85-%e5%85%a8%e9%a4%a8%e4%bc%91%e6%a5%ad/
CATEGORIES:その他
END:VEVENT
BEGIN:VEVENT
DTSTART;VALUE=DATE:20251228
DTEND;VALUE=DATE:20251229
DTSTAMP:20260422T092009
CREATED:20250530T053505Z
LAST-MODIFIED:20251224T003014Z
UID:1409-1766880000-1766966399@makinosan.jp
SUMMARY:出店：ロロジュース
DESCRIPTION:［10:00-15:00 ※雨天中止の場合あり］みかんの産地・愛媛県からご出店！様々な品種のフレッシュみかんジュースを販売。濃厚なのに爽やか、行楽のお供にぜひ！ \n［Instagram］lolo_juice.ehime
URL:https://makinosan.jp/event/%e5%87%ba%e5%ba%97-%e3%83%ad%e3%83%ad%e3%82%b8%e3%83%a5%e3%83%bc%e3%82%b9/
CATEGORIES:出店グルメ
END:VEVENT
BEGIN:VEVENT
DTSTART;VALUE=DATE:20251227
DTEND;VALUE=DATE:20251229
DTSTAMP:20260422T092009
CREATED:20251029T012519Z
LAST-MODIFIED:20251225T063438Z
UID:2193-1766793600-1766966399@makinosan.jp
SUMMARY:出店：GENZO KITCHEN
DESCRIPTION:［10:00-16:00 ※雨天中止の場合あり］高知で人気の豚かつ屋さんから、キッチンカーが出動！できたての美味しさが手軽に味わえるカツサンドを販売します。行楽やドライブのお供にいかがですか？ \n［Instagram］genzo_kitchen
URL:https://makinosan.jp/event/%e5%87%ba%e5%ba%97%ef%bc%9agenzo-kitchen/
CATEGORIES:出店グルメ
END:VEVENT
BEGIN:VEVENT
DTSTART;VALUE=DATE:20251219
DTEND;VALUE=DATE:20251220
DTSTAMP:20260422T092009
CREATED:20250603T070302Z
LAST-MODIFIED:20251124T045506Z
UID:1555-1766102400-1766188799@makinosan.jp
SUMMARY:出店：Core385
DESCRIPTION:［11:00-15:00］装いを彩ってくれる、キラリと華やかなハンドメイドアイテムを販売。明るく元気をもらえるような作家さん自身のファンも多数！ \n［Instagram］385core
URL:https://makinosan.jp/event/%e5%87%ba%e5%ba%97%ef%bc%9acore385-3/
CATEGORIES:出店
END:VEVENT
BEGIN:VEVENT
DTSTART;VALUE=DATE:20251212
DTEND;VALUE=DATE:20251213
DTSTAMP:20260422T092009
CREATED:20250806T050618Z
LAST-MODIFIED:20251211T233926Z
UID:1879-1765497600-1765583999@makinosan.jp
SUMMARY:出店：魔女と月の樹
DESCRIPTION:［11:00-16:00］“魔女が使いそうな道具・雑貨”がコンセプトの幻想雑貨やアクセサリーを販売。タロット占い・ワークショップも好評！ \n［Instagram］m.yuzuko667
URL:https://makinosan.jp/event/%e5%87%ba%e5%ba%97%ef%bc%9a%e9%ad%94%e5%a5%b3%e3%81%a8%e6%9c%88%e3%81%ae%e6%a8%b9-3/
CATEGORIES:出店
END:VEVENT
BEGIN:VEVENT
DTSTART;VALUE=DATE:20251212
DTEND;VALUE=DATE:20251213
DTSTAMP:20260422T092009
CREATED:20250724T063425Z
LAST-MODIFIED:20251124T030413Z
UID:1833-1765497600-1765583999@makinosan.jp
SUMMARY:出店：Core385
DESCRIPTION:［11:00-15:00］装いを彩ってくれる、キラリと華やかなハンドメイドアイテムを販売。明るく元気をもらえるような作家さん自身のファンも多数！ \n［Instagram］385core
URL:https://makinosan.jp/event/%e5%87%ba%e5%ba%97%ef%bc%9acore385-4/
CATEGORIES:出店
END:VEVENT
BEGIN:VEVENT
DTSTART;VALUE=DATE:20251209
DTEND;VALUE=DATE:20260109
DTSTAMP:20260422T092009
CREATED:20251201T060602Z
LAST-MODIFIED:20251202T010741Z
UID:2302-1765238400-1767916799@makinosan.jp
SUMMARY:【多目的スペース】ちえのちいさな展覧会
DESCRIPTION:難病を抱えながら佐川町でイラストを描き続けた故・隅田智恵さんの作品を展示。 \n6月に町内の「さくら福祉事業所」で1週間ほど展示したところ、当時「見に行けなくて残念」とのお声もあり、そこから町内各所で巡回展示を続けていました。この度、素敵な作品の数々が道の駅にもやって来ます。智恵さんのやさしくてあたたかい作品に会いに来てください。 \n■ちえのちいさな展覧会\n■期間：2025年12月9日（火）〜2026年1月8日（木）（ただし、1/1・2は道の駅 全館休業）
URL:https://makinosan.jp/event/%e3%80%90%e5%a4%9a%e7%9b%ae%e7%9a%84%e3%82%b9%e3%83%9a%e3%83%bc%e3%82%b9%e3%80%91%e3%81%a1%e3%81%88%e3%81%ae%e3%81%a1%e3%81%84%e3%81%95%e3%81%aa%e5%b1%95%e8%a6%a7%e4%bc%9a/
CATEGORIES:多目的スペース
END:VEVENT
BEGIN:VEVENT
DTSTART;VALUE=DATE:20251209
DTEND;VALUE=DATE:20251210
DTSTAMP:20260422T092009
CREATED:20251105T052140Z
LAST-MODIFIED:20251124T025151Z
UID:2217-1765238400-1765324799@makinosan.jp
SUMMARY:出店：あきほ  -明星- ライトワークス
DESCRIPTION:［12:30-16:00］カードリーディング等による占い（スピリチュアルコーチングセッション）を実施。お気軽に体験してみてください。ハンドメイドアクセサリーや雑貨の販売も。
URL:https://makinosan.jp/event/%e5%87%ba%e5%ba%97%ef%bc%9a%e3%81%82%e3%81%8d%e3%81%bb-%e6%98%8e%e6%98%9f-%e3%83%a9%e3%82%a4%e3%83%88%e3%83%af%e3%83%bc%e3%82%af%e3%82%b9-2/
CATEGORIES:出店
END:VEVENT
BEGIN:VEVENT
DTSTART;VALUE=DATE:20251207
DTEND;VALUE=DATE:20251208
DTSTAMP:20260422T092009
CREATED:20251008T042621Z
LAST-MODIFIED:20251124T024631Z
UID:2102-1765065600-1765151999@makinosan.jp
SUMMARY:出店：たこ満月
DESCRIPTION:［10:00-16:00 ※雨天中止の場合あり］たこ焼き＆たこ満月を販売！「たこ満月」とは大判焼きのような形のたこ焼きで、中にはまんまる卵もぜいたくに。 \n［Instagram］takomanngetsu
URL:https://makinosan.jp/event/%e5%87%ba%e5%ba%97%ef%bc%9a%e3%81%9f%e3%81%93%e6%ba%80%e6%9c%88/
CATEGORIES:出店グルメ
END:VEVENT
BEGIN:VEVENT
DTSTART;VALUE=DATE:20251205
DTEND;VALUE=DATE:20251207
DTSTAMP:20260422T092009
CREATED:20250905T053613Z
LAST-MODIFIED:20251124T024035Z
UID:2013-1764892800-1765065599@makinosan.jp
SUMMARY:出店：Core385
DESCRIPTION:［11:00-15:00］装いを彩ってくれる、キラリと華やかなハンドメイドアイテムを販売。明るく元気をもらえるような作家さん自身のファンも多数！ \n［Instagram］385core
URL:https://makinosan.jp/event/%e5%87%ba%e5%ba%97%ef%bc%9acore385-5/
CATEGORIES:出店
END:VEVENT
BEGIN:VEVENT
DTSTART;VALUE=DATE:20251203
DTEND;VALUE=DATE:20251205
DTSTAMP:20260422T092009
CREATED:20251022T074625Z
LAST-MODIFIED:20251124T022929Z
UID:2144-1764720000-1764892799@makinosan.jp
SUMMARY:出店：あきほ  -明星- ライトワークス
DESCRIPTION:［12:30-16:00］カードリーディング等による占い（スピリチュアルコーチングセッション）を実施。お気軽に体験してみてください。
URL:https://makinosan.jp/event/%e5%87%ba%e5%ba%97%ef%bc%9a%e3%81%82%e3%81%8d%e3%81%bb-%e6%98%8e%e6%98%9f-%e3%83%a9%e3%82%a4%e3%83%88%e3%83%af%e3%83%bc%e3%82%af%e3%82%b9/
CATEGORIES:出店
END:VEVENT
BEGIN:VEVENT
DTSTART;VALUE=DATE:20251122
DTEND;VALUE=DATE:20251201
DTSTAMP:20260422T092009
CREATED:20251116T002630Z
LAST-MODIFIED:20251116T002743Z
UID:2254-1763769600-1764547199@makinosan.jp
SUMMARY:【多目的スペース】光るサカナのパレード展
DESCRIPTION:佐川町ではおなじみの「さかわ発明ラボ」。ものづくり施設としてデジタル工作機器と多分野で活躍する人材を擁し、ものづくりのサポートやワークショップ、機材を活用した企画や制作等を通して町内外の皆様に親しまれています。\n先日開催された「さかわ酒蔵ロード2025」で夜の上町をねり歩く姿が大好評だった“光るサカナ”たちを道の駅に展示いただきます。「さかわ酒蔵ロード2025」で見られた方も見られなかった方も、室内展示でじっくりゆっくりご覧ください。 \n■さかわ発明ラボ 光るサカナのパレード展 酒蔵ロード2025\n■期間：2025年11月22日（土）〜30日（日）（最終日11/30（日）は16:00まで） \n［Instagram］sakawa.hatsumei.lab
URL:https://makinosan.jp/event/%e3%80%88%e5%a4%9a%e7%9b%ae%e7%9a%84%e3%82%b9%e3%83%9a%e3%83%bc%e3%82%b9%e3%80%89%e5%85%89%e3%82%8b%e3%82%b5%e3%82%ab%e3%83%8a%e3%81%ae%e3%83%91%e3%83%ac%e3%83%bc%e3%83%89%e5%b1%95/
CATEGORIES:多目的スペース
END:VEVENT
BEGIN:VEVENT
DTSTART;VALUE=DATE:20251118
DTEND;VALUE=DATE:20251119
DTSTAMP:20260422T092009
CREATED:20250612T044254Z
LAST-MODIFIED:20251029T010945Z
UID:1582-1763424000-1763510399@makinosan.jp
SUMMARY:出店：POLA THE BEAUTY 高知百石店
DESCRIPTION:［11:00-15:00］メイクやお肌のことをおすすめしながらコスメ選びをお楽しみください。コスメご購入の方には、ご希望でハンドマッサージも。 \n［Instagram］pola_hyakkoku
URL:https://makinosan.jp/event/%e5%87%ba%e5%ba%97%ef%bc%9apola-the-beauty-%e9%ab%98%e7%9f%a5%e7%99%be%e7%9f%b3%e5%ba%97/
CATEGORIES:出店
END:VEVENT
BEGIN:VEVENT
DTSTART;VALUE=DATE:20251115
DTEND;VALUE=DATE:20251117
DTSTAMP:20260422T092009
CREATED:20251019T080443Z
LAST-MODIFIED:20251112T030630Z
UID:2139-1763164800-1763337599@makinosan.jp
SUMMARY:さかわでマルシェ
DESCRIPTION:〈2日間開催決定！〉［10:00～15:00］佐川町内外から2日間で30店以上の、楽しい・美味しいお店が集結するマルシェを開催！もちろん、当道の駅PR隊長まきにゃんも登場予定！肌寒い時間帯をあるかもしれませんので、温かくしてお買い物やグルメをお楽しみください。\n●場所：まきのさんの道の駅・佐川 芝生広場\n※気候や諸状況による予定・時間変更がある場合があります。\n※時間によっては売り切れ・販売終了している場合があります。
URL:https://makinosan.jp/event/%e3%81%95%e3%81%8b%e3%82%8f%e3%81%a7%e3%83%9e%e3%83%ab%e3%82%b7%e3%82%a7/
CATEGORIES:イベント
END:VEVENT
BEGIN:VEVENT
DTSTART;VALUE=DATE:20251113
DTEND;VALUE=DATE:20251118
DTSTAMP:20260422T092009
CREATED:20251029T062805Z
LAST-MODIFIED:20251029T062805Z
UID:2201-1762992000-1763423999@makinosan.jp
SUMMARY:【多目的スペース】チャリティー寒蘭展
DESCRIPTION:佐川町の寒蘭専門店「藤原園」さんが毎年恒例の展示販売会を開催してくださいます。\n寒蘭は、花や葉の美しくすらりとしたバランスや、上品な香りが特徴で、寒い時期に咲くため「寒蘭」と呼ばれ、学名「Cymbidium kanran」は牧野富太郎博士により命名されました。\nそんな寒蘭の展示と共に販売も実施し、地域貢献の一環として、収益の一部は佐川町社会福祉協議会に寄付されます。 \n■初日11/13（木）は10:00から、最終日11/17（月）は15:00までご覧いただけます。\n■9:00〜16:00はスタッフが在廊し、販売も実施
URL:https://makinosan.jp/event/%e3%80%90%e5%a4%9a%e7%9b%ae%e7%9a%84%e3%82%b9%e3%83%9a%e3%83%bc%e3%82%b9%e3%80%91%e3%83%81%e3%83%a3%e3%83%aa%e3%83%86%e3%82%a3%e3%83%bc%e5%af%92%e8%98%ad%e5%b1%95/
CATEGORIES:多目的スペース
END:VEVENT
BEGIN:VEVENT
DTSTART;VALUE=DATE:20251109
DTEND;VALUE=DATE:20251110
DTSTAMP:20260422T092009
CREATED:20251029T003257Z
LAST-MODIFIED:20251029T003257Z
UID:2167-1762646400-1762732799@makinosan.jp
SUMMARY:出店：Handmade Shop K
DESCRIPTION:［11:00-15:00］ハンドメイドの布小物や雑貨を販売。自分用にも贈り物にも、色柄豊富なかわいい＆華やかで実用的なアイテムがいっぱい！ \n［Instagram］shopk26
URL:https://makinosan.jp/event/%e5%87%ba%e5%ba%97%ef%bc%9ahandmade-shop-k/
CATEGORIES:出店
END:VEVENT
BEGIN:VEVENT
DTSTART;VALUE=DATE:20251108
DTEND;VALUE=DATE:20251109
DTSTAMP:20260422T092010
CREATED:20251022T081114Z
LAST-MODIFIED:20251023T010037Z
UID:2152-1762560000-1762646399@makinosan.jp
SUMMARY:北海道フェア〈佐川高校〉
DESCRIPTION:［9:30-売り切れ次第終了］佐川高校 地域マネジメント部の皆さんが、北海道フェアを開催！生徒さんが北海道を訪れ、直接仕入れた商品の数々が並びます。\n新じゃがいもや新タマネギの詰め放題や、乳酪館チーズの試食販売も！（全て数量限定/無くなり次第終了）
URL:https://makinosan.jp/event/%e5%8c%97%e6%b5%b7%e9%81%93%e3%83%95%e3%82%a7%e3%82%a2%e3%80%88%e4%bd%90%e5%b7%9d%e9%ab%98%e6%a0%a1%e3%80%89/
CATEGORIES:イベント
END:VEVENT
BEGIN:VEVENT
DTSTART;VALUE=DATE:20251015
DTEND;VALUE=DATE:20251016
DTSTAMP:20260422T092010
CREATED:20250925T023701Z
LAST-MODIFIED:20250925T023701Z
UID:2077-1760486400-1760572799@makinosan.jp
SUMMARY:出店：kasakasa
DESCRIPTION:［10:00-16:00］ビーズや天然石等を使ったハンドメイドアクセサリー、キッズアクセサリーを販売。シックな中に大人っぽい華やかさも光るアイテム多数！ \n［Instagram］kasa2_handmade
URL:https://makinosan.jp/event/%e5%87%ba%e5%ba%97%ef%bc%9akasakasa/
CATEGORIES:出店
END:VEVENT
BEGIN:VEVENT
DTSTART;VALUE=DATE:20251011
DTEND;VALUE=DATE:20251012
DTSTAMP:20260422T092010
CREATED:20250603T052313Z
LAST-MODIFIED:20250925T021552Z
UID:1514-1760140800-1760227199@makinosan.jp
SUMMARY:出店：スエードチャームSHOP None
DESCRIPTION:［10:00-16:00］カラフルなスエード素材のチャームやキーホルダーを販売。色々なモチーフのチャームがズラリと並んで、どれにしようか迷うのも楽しい！ \n［Instagram］suede_none
URL:https://makinosan.jp/event/%e5%87%ba%e5%ba%97%ef%bc%9a%e3%82%b9%e3%82%a8%e3%83%bc%e3%83%89%e3%83%81%e3%83%a3%e3%83%bc%e3%83%a0shop-none/
CATEGORIES:出店
END:VEVENT
BEGIN:VEVENT
DTSTART;VALUE=DATE:20251003
DTEND;VALUE=DATE:20251101
DTSTAMP:20260422T092010
CREATED:20250917T075214Z
LAST-MODIFIED:20250930T041749Z
UID:2050-1759449600-1761955199@makinosan.jp
SUMMARY:【多目的スペース】佐川おもちゃ美術館「おもちゃ学芸員作品展」
DESCRIPTION:道の駅併設の「佐川おもちゃ美術館」。そこで活動・活躍している、おもちゃ学芸員さんによる作品展を開催します。個性豊かなおもちゃ学芸員さんの「好き」や「得意」を活かした作品が並びます。（「おもちゃ学芸員」とは…おもちゃの遊び方や魅力を伝えるボランティアスタッフさん）\nおもちゃで遊ぶ楽しさだけではなく、おもちゃ学芸員さんとの交流も魅力の「佐川おもちゃ美術館」。その温かな雰囲気が伝わる展示をお楽しみください。 \n［公式HP］佐川おもちゃ美術館\n［Instagram］sakawa.toymuseum
URL:https://makinosan.jp/event/%e3%80%90%e5%a4%9a%e7%9b%ae%e7%9a%84%e3%82%b9%e3%83%9a%e3%83%bc%e3%82%b9%e3%80%91%e4%bd%90%e5%b7%9d%e3%81%8a%e3%82%82%e3%81%a1%e3%82%83%e7%be%8e%e8%a1%93%e9%a4%a8%e3%81%ae%e5%b1%95%e7%a4%ba%ef%bc%88/
CATEGORIES:多目的スペース
END:VEVENT
BEGIN:VEVENT
DTSTART;VALUE=DATE:20250929
DTEND;VALUE=DATE:20250930
DTSTAMP:20260422T092010
CREATED:20250923T083125Z
LAST-MODIFIED:20250923T083125Z
UID:2059-1759104000-1759190399@makinosan.jp
SUMMARY:秋の交通安全運動
DESCRIPTION:［11:00〜11:30頃］一日警察署長をお招きして、佐川警察署の皆さんと当道の駅PR隊長（非公認）まきにゃんが交通安全の呼びかけを行います。\nお車でお越しいただくことの多い道の駅だからこそ、皆さまの道中での交通安全を強く願っています。短い時間にはなりますが、お越しの皆さまと一緒に、交通安全意識を高め合うひとときになればと思っております。
URL:https://makinosan.jp/event/%e7%a7%8b%e3%81%ae%e4%ba%a4%e9%80%9a%e5%ae%89%e5%85%a8%e9%81%8b%e5%8b%95/
CATEGORIES:その他
END:VEVENT
BEGIN:VEVENT
DTSTART;VALUE=DATE:20250920
DTEND;VALUE=DATE:20250921
DTSTAMP:20260422T092010
CREATED:20250612T045420Z
LAST-MODIFIED:20250819T022449Z
UID:1585-1758326400-1758412799@makinosan.jp
SUMMARY:出店：8ctave オクターブ
DESCRIPTION:［10:00-16:00 ※雨天中止の場合あり］がま口財布やポーチをはじめメガネチェーンやストラップ、かわいいモチーフのデコクリップに手描きブローチ等、様々なアイテムがそろう！ \n［Instagram］ko8ctave
URL:https://makinosan.jp/event/%e5%87%ba%e5%ba%97%ef%bc%9a8ctave-%e3%82%aa%e3%82%af%e3%82%bf%e3%83%bc%e3%83%96/
CATEGORIES:出店
END:VEVENT
BEGIN:VEVENT
DTSTART;VALUE=DATE:20250915
DTEND;VALUE=DATE:20250916
DTSTAMP:20260422T092010
CREATED:20250724T044639Z
LAST-MODIFIED:20250903T003227Z
UID:1815-1757894400-1757980799@makinosan.jp
SUMMARY:出店：いか焼き さっちゃん
DESCRIPTION:［10:00-15:00 ※雨天中止の場合あり］大阪名物の粉もん「いか焼き」を販売。カツオ出汁をきかせたもちもち生地に刻んだイカを乗せて焼き上げるこんがりとした香りがたまらない！ \n［Instagram］ikayaki_sachan
URL:https://makinosan.jp/event/%e5%87%ba%e5%ba%97%ef%bc%9a%e3%81%84%e3%81%8b%e7%84%bc%e3%81%8d-%e3%81%95%e3%81%a3%e3%81%a1%e3%82%83%e3%82%93/
CATEGORIES:出店グルメ
END:VEVENT
BEGIN:VEVENT
DTSTART;VALUE=DATE:20250915
DTEND;VALUE=DATE:20250916
DTSTAMP:20260422T092010
CREATED:20250713T071218Z
LAST-MODIFIED:20250827T080044Z
UID:1773-1757894400-1757980799@makinosan.jp
SUMMARY:🐱まきにゃん登場
DESCRIPTION:道の駅PR隊長（佐川町非公認キャラクター）まきにゃんが道の駅に登場します。 登場は、①10:30 ②13:30 ③15:00 の3回を予定。※1回の登場は20分前後。※時刻は前後する場合があります。 \n9/2に誕生日を迎え、約2週間後のまきにゃんグリーティングでは、誕生日記念と日頃の感謝を込めてささやかではありますが、会いにきてくださったお客さまに、まきにゃんから逆（？）プレゼントをご用意！3回の登場時に、オリジナルシールをお渡しします！\n※シールは各回数量限定。限定枚数に達しましたら、お渡しを終了いたします。あらかじめご了承ください。 \n記念撮影をしたり、ハイタッチや握手をしたり、まきにゃんとモフモフ楽しく交流をお楽しみください。 \n［Instagram］makinyan.sakawa
URL:https://makinosan.jp/event/%f0%9f%90%b1%e3%81%be%e3%81%8d%e3%81%ab%e3%82%83%e3%82%93%e7%99%bb%e5%a0%b4/
CATEGORIES:まきにゃん
END:VEVENT
BEGIN:VEVENT
DTSTART;VALUE=DATE:20250913
DTEND;VALUE=DATE:20250916
DTSTAMP:20260422T092010
CREATED:20250903T002843Z
LAST-MODIFIED:20250903T042232Z
UID:2001-1757721600-1757980799@makinosan.jp
SUMMARY:砥部焼 絵付体験＆販売会
DESCRIPTION:［10:00-15:00 ※荒天中止の場合あり］国道33号線でつながる愛媛県砥部町から、本場の砥部焼が並ぶイベントを開催！おとなもこどもも気軽に楽しめる絵付体験は、色々な形の器からお好きなものを選んで体験できます。伝統的な青色が美しい器や、現代的なおしゃれでかわいいものまで、色・柄・形様々な砥部焼の販売も！\n※荒天中止の場合は、道の駅HP・SNSでお知らせします。 \n［Instagram］sosakukan\n［Instagram］utsuwaya__toiro
URL:https://makinosan.jp/event/%e7%a0%a5%e9%83%a8%e7%84%bc-%e7%b5%b5%e4%bb%98%e4%bd%93%e9%a8%93%ef%bc%86%e8%b2%a9%e5%a3%b2%e4%bc%9a/
CATEGORIES:イベント
END:VEVENT
BEGIN:VEVENT
DTSTART;VALUE=DATE:20250913
DTEND;VALUE=DATE:20250916
DTSTAMP:20260422T092010
CREATED:20250903T001138Z
LAST-MODIFIED:20250903T042706Z
UID:1997-1757721600-1757980799@makinosan.jp
SUMMARY:出店：風工房
DESCRIPTION:［10:00-15:00 ※雨天中止の場合あり］中土佐町の人気スイーツ店がかわいいキッチンカーでやって来る！大人気の苺スイーツの数々を佐川町でお買い求めいただけるうれしい三日間！ \n［Instagram］kazekoubou_1997
URL:https://makinosan.jp/event/%e5%87%ba%e5%ba%97%ef%bc%9a%e9%a2%a8%e5%b7%a5%e6%88%bf/
CATEGORIES:出店グルメ
END:VEVENT
BEGIN:VEVENT
DTSTART;VALUE=DATE:20250913
DTEND;VALUE=DATE:20250914
DTSTAMP:20260422T092010
CREATED:20250603T053501Z
LAST-MODIFIED:20250819T014451Z
UID:1529-1757721600-1757807999@makinosan.jp
SUMMARY:出店：8ctave オクターブ
DESCRIPTION:［10:00-16:00］がま口財布やポーチをはじめメガネチェーンやストラップ、かわいいモチーフのデコクリップに手描きブローチ等、様々なアイテムがそろう！ \n［Instagram］ko8ctave
URL:https://makinosan.jp/event/1529/
CATEGORIES:出店
END:VEVENT
END:VCALENDAR