BEGIN:VCALENDAR
VERSION:2.0
PRODID:-//まきのさんの道の駅・佐川 - ECPv6.15.12.2//NONSGML v1.0//EN
CALSCALE:GREGORIAN
METHOD:PUBLISH
X-ORIGINAL-URL:https://makinosan.jp
X-WR-CALDESC:まきのさんの道の駅・佐川 のイベント
REFRESH-INTERVAL;VALUE=DURATION:PT1H
X-Robots-Tag:noindex
X-PUBLISHED-TTL:PT1H
BEGIN:VTIMEZONE
TZID:Asia/Tokyo
BEGIN:STANDARD
TZOFFSETFROM:+0900
TZOFFSETTO:+0900
TZNAME:JST
DTSTART:20250101T000000
END:STANDARD
END:VTIMEZONE
BEGIN:VEVENT
DTSTART;VALUE=DATE:20260503
DTEND;VALUE=DATE:20260505
DTSTAMP:20260422T093444
CREATED:20250620T022605Z
LAST-MODIFIED:20260411T063440Z
UID:1653-1777766400-1777939199@makinosan.jp
SUMMARY:出店：RiVi DENIM
DESCRIPTION:［10:00-16:00 ※雨天中止の場合あり］古着デニムをホームクリーニングし、バッグやポーチ・ヘアアクセサリー・サコッシュ等、様々なアイテムにリメイクし販売！ \n［Instagram］rivi_denim
URL:https://makinosan.jp/event/%e5%87%ba%e5%ba%97%ef%bc%9arivi-denim-2/
CATEGORIES:出店
END:VEVENT
BEGIN:VEVENT
DTSTART;VALUE=DATE:20260504
DTEND;VALUE=DATE:20260505
DTSTAMP:20260422T093444
CREATED:20260411T063706Z
LAST-MODIFIED:20260411T063706Z
UID:2714-1777852800-1777939199@makinosan.jp
SUMMARY:出店：こまち
DESCRIPTION:［10:00-16:00］かわいくファンシーなリボンモチーフのアイテムを販売。おとなもこどももトキメク、ユニークな雑貨が多数。 \n［Instagram］komach0828
URL:https://makinosan.jp/event/%e5%87%ba%e5%ba%97%ef%bc%9a%e3%81%93%e3%81%be%e3%81%a1-2/
CATEGORIES:出店
END:VEVENT
BEGIN:VEVENT
DTSTART;VALUE=DATE:20260505
DTEND;VALUE=DATE:20260506
DTSTAMP:20260422T093444
CREATED:20250724T064833Z
LAST-MODIFIED:20260411T064057Z
UID:1840-1777939200-1778025599@makinosan.jp
SUMMARY:出店：森のペンギン
DESCRIPTION:［11:00-15:00］自家焙煎のおいしいコーヒーで一息つきませんか？コーヒーが苦手な方には、はちみつ柚子やはちみつジンジャー等のドリンクも！ \n［Instagram］morinopenguin
URL:https://makinosan.jp/event/%e5%87%ba%e5%ba%97%ef%bc%9a%e6%a3%ae%e3%81%ae%e3%83%9a%e3%83%b3%e3%82%ae%e3%83%b3/
CATEGORIES:出店グルメ
END:VEVENT
BEGIN:VEVENT
DTSTART;VALUE=DATE:20260505
DTEND;VALUE=DATE:20260507
DTSTAMP:20260422T093444
CREATED:20250703T012529Z
LAST-MODIFIED:20260411T063904Z
UID:1696-1777939200-1778111999@makinosan.jp
SUMMARY:出店：うつわや砥彩
DESCRIPTION:［10:00-16:00 ※雨天中止の場合あり］愛媛から、素敵な柄・紋様の砥部焼の販売が！伝統的なものから、おしゃれでかわいいものまで幅広く取りそろえておりますので、お気に入りの一品を見つけてみてください！ \n［Instagram］utsuwaya__toiro
URL:https://makinosan.jp/event/%e5%87%ba%e5%ba%97%ef%bc%9a%e3%81%86%e3%81%a4%e3%82%8f%e3%82%84%e7%a0%a5%e5%bd%a9/
CATEGORIES:出店
END:VEVENT
BEGIN:VEVENT
DTSTART;VALUE=DATE:20260505
DTEND;VALUE=DATE:20260507
DTSTAMP:20260422T093444
CREATED:20251201T071505Z
LAST-MODIFIED:20260416T061532Z
UID:1823-1777939200-1778111999@makinosan.jp
SUMMARY:司牡丹 地酒試飲会
DESCRIPTION:［10:00-16:00（途中、お昼休憩をとらせていただきます）］佐川町の老舗 司牡丹酒造の蔵元によるおすすめの地酒試飲会を開催！ \n［Instagram］tsukasabotansns
URL:https://makinosan.jp/event/%e5%8f%b8%e7%89%a1%e4%b8%b9-%e5%9c%b0%e9%85%92%e8%a9%a6%e9%a3%b2%e4%bc%9a-2/
CATEGORIES:試飲・試食会
END:VEVENT
BEGIN:VEVENT
DTSTART;VALUE=DATE:20260506
DTEND;VALUE=DATE:20260507
DTSTAMP:20260422T093444
CREATED:20250530T060219Z
LAST-MODIFIED:20260411T064156Z
UID:1443-1778025600-1778111999@makinosan.jp
SUMMARY:出店：ボトルアレンジメントフラワー Association
DESCRIPTION:［10:00-15:00］ボトルの中に花が咲いたような可憐な作品やかわいい雑貨等のハンドメイド品を販売。ボトルフラワーの美しさをぜひ間近で見てみてください！ \n［Instagram］enjoy_life393
URL:https://makinosan.jp/event/%e5%87%ba%e5%ba%97%ef%bc%9a%e3%83%9c%e3%83%88%e3%83%ab%e3%82%a2%e3%83%ac%e3%83%b3%e3%82%b8%e3%83%a1%e3%83%b3%e3%83%88%e3%83%95%e3%83%a9%e3%83%af%e3%83%bc-association/
CATEGORIES:出店
END:VEVENT
END:VCALENDAR