BEGIN:VCALENDAR
VERSION:2.0
PRODID:-//まきのさんの道の駅・佐川 - ECPv6.15.12.2//NONSGML v1.0//EN
CALSCALE:GREGORIAN
METHOD:PUBLISH
X-WR-CALNAME:まきのさんの道の駅・佐川
X-ORIGINAL-URL:https://makinosan.jp
X-WR-CALDESC:まきのさんの道の駅・佐川 のイベント
REFRESH-INTERVAL;VALUE=DURATION:PT1H
X-Robots-Tag:noindex
X-PUBLISHED-TTL:PT1H
BEGIN:VTIMEZONE
TZID:Asia/Tokyo
BEGIN:STANDARD
TZOFFSETFROM:+0900
TZOFFSETTO:+0900
TZNAME:JST
DTSTART:20250101T000000
END:STANDARD
END:VTIMEZONE
BEGIN:VEVENT
DTSTART;VALUE=DATE:20260405
DTEND;VALUE=DATE:20260406
DTSTAMP:20260422T043420
CREATED:20250819T020802Z
LAST-MODIFIED:20260307T013613Z
UID:1955-1775347200-1775433599@makinosan.jp
SUMMARY:出店：m-maru
DESCRIPTION:［10:00-16:00］レジンやビーズ等を使ったアクセサリーを販売。“かわいい”から“キレイめ”まで、バリエーション豊富！日常使いや特別な装いのワンポイントにおすすめ。 \n［Instagram］m_maru_315
URL:https://makinosan.jp/event/%e5%87%ba%e5%ba%97%ef%bc%9am-maru/
CATEGORIES:出店
END:VEVENT
BEGIN:VEVENT
DTSTART;VALUE=DATE:20260405
DTEND;VALUE=DATE:20260406
DTSTAMP:20260422T043420
CREATED:20251124T025648Z
LAST-MODIFIED:20260307T013717Z
UID:2282-1775347200-1775433599@makinosan.jp
SUMMARY:出店：MAYUMINI
DESCRIPTION:［10:00-16:00］透明感とカラフルさが可憐なレジンアクセサリーや布小物を販売。本物の花を使ったアイテムも多数。 \n［Instagram］mayumini_handmade_accessory
URL:https://makinosan.jp/event/%e5%87%ba%e5%ba%97%ef%bc%9amayumini/
CATEGORIES:出店
END:VEVENT
BEGIN:VEVENT
DTSTART;VALUE=DATE:20260405
DTEND;VALUE=DATE:20260406
DTSTAMP:20260422T043420
CREATED:20260402T080842Z
LAST-MODIFIED:20260402T081048Z
UID:2686-1775347200-1775433599@makinosan.jp
SUMMARY:🍓さかわいちご試食販売会
DESCRIPTION:佐川高校地域マネジメント部の生徒さんたちとJA高知県佐川支所いちご部会による、さかわいちごの試食販売会を開催いたします！■日程：2026年4月5日（日） ■時間（予定）：10:00〜15:00 ＊売り切れの場合は早めに試食・販売を終了します。 \n\n\n\n佐川町は県内でも有数のいちごの産地。上品な甘さが魅力のさかわいちごは人気の特産品です。この機会にぜひ、さかわいちごのおいしさ・甘さ・みずみずしさをご堪能ください。甘くて爽やかな香りと共にお待ちしております！
URL:https://makinosan.jp/event/%f0%9f%8d%93%e3%81%95%e3%81%8b%e3%82%8f%e3%81%84%e3%81%a1%e3%81%94%e8%a9%a6%e9%a3%9f%e8%b2%a9%e5%a3%b2%e4%bc%9a/
CATEGORIES:イベント
END:VEVENT
BEGIN:VEVENT
DTSTART;VALUE=DATE:20260405
DTEND;VALUE=DATE:20260407
DTSTAMP:20260422T043420
CREATED:20251225T074929Z
LAST-MODIFIED:20260403T234016Z
UID:2367-1775347200-1775519999@makinosan.jp
SUMMARY:出店：土佐茶寮 山の灯
DESCRIPTION:［11:00-16:00 ※雨天中止の場合あり］県内各地で人気のキッチンカーがやって来る！土佐茶を使った人気のラテや季節の土佐茶ドリンクをご提供。 \n［Instagram］yamanotomoshibi
URL:https://makinosan.jp/event/%e5%87%ba%e5%ba%97%ef%bc%9a%e5%9c%9f%e4%bd%90%e8%8c%b6%e5%af%ae-%e5%b1%b1%e3%81%ae%e7%81%af/
CATEGORIES:出店グルメ
END:VEVENT
BEGIN:VEVENT
DTSTART;VALUE=DATE:20260406
DTEND;VALUE=DATE:20260407
DTSTAMP:20260422T043420
CREATED:20251217T035141Z
LAST-MODIFIED:20260323T032411Z
UID:2357-1775433600-1775519999@makinosan.jp
SUMMARY:出店：工房玻璃
DESCRIPTION:［10:00-16:00］佐川町の編み物作家さん。編みぐるみやバイカオウレンのアクセサリー等、思わず手に取りたくなるかわいいアイテムがどっさり！ \n［Instagram］kobo.hari
URL:https://makinosan.jp/event/%e5%87%ba%e5%ba%97%ef%bc%9a%e5%b7%a5%e6%88%bf%e7%8e%bb%e7%92%83-2/
CATEGORIES:出店
END:VEVENT
BEGIN:VEVENT
DTSTART;VALUE=DATE:20260407
DTEND;VALUE=DATE:20260408
DTSTAMP:20260422T043420
CREATED:20251124T024916Z
LAST-MODIFIED:20260323T032523Z
UID:2278-1775520000-1775606399@makinosan.jp
SUMMARY:出店：ハンドメイドk
DESCRIPTION:［10:00-16:00］猫モチーフのアイテムやアクセサリーを中心に、あれもこれもと欲しくなる商品がたくさん！ \n［Instagram］ka.tsuchi
URL:https://makinosan.jp/event/%e5%87%ba%e5%ba%97%ef%bc%9a%e3%83%8f%e3%83%b3%e3%83%89%e3%83%a1%e3%82%a4%e3%83%89k/
CATEGORIES:出店
END:VEVENT
BEGIN:VEVENT
DTSTART;VALUE=DATE:20260407
DTEND;VALUE=DATE:20260411
DTSTAMP:20260422T043420
CREATED:20250819T021145Z
LAST-MODIFIED:20260323T032246Z
UID:1958-1775520000-1775865599@makinosan.jp
SUMMARY:出店：reene
DESCRIPTION:［11:00-15:00］天然石や土佐和紙、本物の花等を使ったアクセサリーの数々は、色鮮やかでまるでアート作品！ \n［Instagram］reene1120
URL:https://makinosan.jp/event/%e5%87%ba%e5%ba%97%ef%bc%9areene-2/
CATEGORIES:出店
END:VEVENT
BEGIN:VEVENT
DTSTART;VALUE=DATE:20260411
DTEND;VALUE=DATE:20260412
DTSTAMP:20260422T043420
CREATED:20250530T054617Z
LAST-MODIFIED:20260323T032800Z
UID:1420-1775865600-1775951999@makinosan.jp
SUMMARY:出店：SUZURAN
DESCRIPTION:［10:00-16:00］ハンドメイド雑貨やヘアアクセサリーを販売。自分だけのカスタムアイテムを作るワークショップも開催！ \n［Instagram］suzuran.ym2
URL:https://makinosan.jp/event/%e5%87%ba%e5%ba%97-suzuran/
CATEGORIES:出店
END:VEVENT
BEGIN:VEVENT
DTSTART;VALUE=DATE:20260411
DTEND;VALUE=DATE:20260412
DTSTAMP:20260422T043420
CREATED:20250813T074224Z
LAST-MODIFIED:20260323T033036Z
UID:1921-1775865600-1775951999@makinosan.jp
SUMMARY:出店：森のペンギン
DESCRIPTION:［10:00-16:00 ※雨天中止の場合あり］自家焙煎のおいしいコーヒーで一息つきませんか？コーヒーが苦手な方には、はちみつ柚子やはちみつジンジャー等のドリンクも！ \n［Instagram］morinopenguin
URL:https://makinosan.jp/event/%e5%87%ba%e5%ba%97%ef%bc%9a%e6%a3%ae%e3%81%ae%e3%83%9a%e3%83%b3%e3%82%ae%e3%83%b3-3/
CATEGORIES:出店グルメ
END:VEVENT
BEGIN:VEVENT
DTSTART;VALUE=DATE:20260411
DTEND;VALUE=DATE:20260413
DTSTAMP:20260422T043420
CREATED:20250603T052845Z
LAST-MODIFIED:20260323T033121Z
UID:1522-1775865600-1776038399@makinosan.jp
SUMMARY:出店：RUBAN
DESCRIPTION:［10:00-16:00］ポーチやバッグ、がま口等のハンドメイド布小物がずらり！華やか且つ実用的だから贈り物にもおすすめ！ \n［Instagram］ruban0209
URL:https://makinosan.jp/event/%e5%87%ba%e5%ba%97%ef%bc%9aruban-%e3%83%aa%e3%83%a5%e3%83%90%e3%83%b3/
CATEGORIES:出店
END:VEVENT
BEGIN:VEVENT
DTSTART;VALUE=DATE:20260412
DTEND;VALUE=DATE:20260413
DTSTAMP:20260422T043420
CREATED:20260103T020209Z
LAST-MODIFIED:20260323T033247Z
UID:2409-1775952000-1776038399@makinosan.jp
SUMMARY:出店：工房玻璃
DESCRIPTION:［10:00-16:00］佐川町の編み物作家さん。編みぐるみやバイカオウレンのアクセサリー等、思わず手に取りたくなるかわいいアイテムがどっさり！ \n［Instagram］kobo.hari
URL:https://makinosan.jp/event/%e5%87%ba%e5%ba%97%ef%bc%9a%e5%b7%a5%e6%88%bf%e7%8e%bb%e7%92%83-3/
CATEGORIES:出店
END:VEVENT
BEGIN:VEVENT
DTSTART;VALUE=DATE:20260413
DTEND;VALUE=DATE:20260415
DTSTAMP:20260422T043420
CREATED:20250612T055448Z
LAST-MODIFIED:20260410T054912Z
UID:1620-1776038400-1776211199@makinosan.jp
SUMMARY:出店：reene
DESCRIPTION:［11:00-15:00］天然石や土佐和紙、本物の花等を使ったアクセサリーの数々は、色鮮やかでまるでアート作品！ \n［Instagram］reene1120
URL:https://makinosan.jp/event/%e5%87%ba%e5%ba%97%ef%bc%9areene/
CATEGORIES:出店
END:VEVENT
BEGIN:VEVENT
DTSTART;VALUE=DATE:20260415
DTEND;VALUE=DATE:20260416
DTSTAMP:20260422T043420
CREATED:20251124T025817Z
LAST-MODIFIED:20260323T033359Z
UID:2286-1776211200-1776297599@makinosan.jp
SUMMARY:出店：ハンドメイドk
DESCRIPTION:［10:00-16:00］猫モチーフのアイテムやアクセサリーを中心に、あれもこれもと欲しくなる商品がたくさん！ \n［Instagram］ka.tsuchi
URL:https://makinosan.jp/event/%e5%87%ba%e5%ba%97%ef%bc%9a%e3%83%8f%e3%83%b3%e3%83%89%e3%83%a1%e3%82%a4%e3%83%89k-2/
CATEGORIES:出店
END:VEVENT
BEGIN:VEVENT
DTSTART;VALUE=DATE:20260417
DTEND;VALUE=DATE:20260418
DTSTAMP:20260422T043420
CREATED:20250530T055627Z
LAST-MODIFIED:20260323T033458Z
UID:1437-1776384000-1776470399@makinosan.jp
SUMMARY:出店：momotherapist
DESCRIPTION:［11:00-16:00］耳つぼジュエリーやカラーセラピー、占いを実施。楽しく色んなことを語らいながら、癒しのひとときを。お気軽に体験してみてください。 \n［Instagram］momotherapist.0313
URL:https://makinosan.jp/event/%e5%87%ba%e5%ba%97%ef%bc%9amomotherapist/
CATEGORIES:出店
END:VEVENT
BEGIN:VEVENT
DTSTART;VALUE=DATE:20260417
DTEND;VALUE=DATE:20260418
DTSTAMP:20260422T043420
CREATED:20260115T033857Z
LAST-MODIFIED:20260417T011715Z
UID:2465-1776384000-1776470399@makinosan.jp
SUMMARY:出店：工房亜聖
DESCRIPTION:［10:00-15:00］天然石を使ったブレスレットやピアス、ネイルチップ、和紙を使った雑貨等をバリエーション豊富に販売。 \n［Instagram］koubouasa
URL:https://makinosan.jp/event/%e5%87%ba%e5%ba%97%ef%bc%9a%e5%b7%a5%e6%88%bf%e4%ba%9c%e8%81%96-11/
CATEGORIES:出店
END:VEVENT
BEGIN:VEVENT
DTSTART;VALUE=DATE:20260417
DTEND;VALUE=DATE:20260420
DTSTAMP:20260422T043420
CREATED:20250603T055157Z
LAST-MODIFIED:20260416T032834Z
UID:1543-1776384000-1776643199@makinosan.jp
SUMMARY:出店：coco crepe
DESCRIPTION:［10:00-17:00 ※雨天中止の場合あり］生地がおいしい！人気のクレープ屋さんの移動販売。観光やドライブのお供に種類豊富なクレープはいかが？
URL:https://makinosan.jp/event/%e5%87%ba%e5%ba%97%ef%bc%9acoco-crepe/
CATEGORIES:出店グルメ
END:VEVENT
BEGIN:VEVENT
DTSTART;VALUE=DATE:20260418
DTEND;VALUE=DATE:20260419
DTSTAMP:20260422T043420
CREATED:20250915T052958Z
LAST-MODIFIED:20260323T033709Z
UID:2047-1776470400-1776556799@makinosan.jp
SUMMARY:出店：ボトルアレンジメントフラワー Association
DESCRIPTION:［10:00-15:00］ボトルの中に花が咲いたような可憐な作品やかわいい雑貨等のハンドメイド品を販売。ボトルフラワーの美しさをぜひ間近で見てみてください！ \n［Instagram］enjoy_life393
URL:https://makinosan.jp/event/%e5%87%ba%e5%ba%97%ef%bc%9a%e3%83%9c%e3%83%88%e3%83%ab%e3%82%a2%e3%83%ac%e3%83%b3%e3%82%b8%e3%83%a1%e3%83%b3%e3%83%88%e3%83%95%e3%83%a9%e3%83%af%e3%83%bc-association-2/
CATEGORIES:出店
END:VEVENT
BEGIN:VEVENT
DTSTART;VALUE=DATE:20260418
DTEND;VALUE=DATE:20260420
DTSTAMP:20260422T043420
CREATED:20250703T012005Z
LAST-MODIFIED:20260323T033833Z
UID:1694-1776470400-1776643199@makinosan.jp
SUMMARY:出店：nikolaschka
DESCRIPTION:［10:00-16:00］ピアスやイヤリング等、アクセサリーを中心としたスタイルや生活を彩るアイテムを販売。 \n［Instagram］nikolaschka.shop
URL:https://makinosan.jp/event/%e5%87%ba%e5%ba%97%ef%bc%9anikolaschka/
CATEGORIES:出店
END:VEVENT
BEGIN:VEVENT
DTSTART;VALUE=DATE:20260419
DTEND;VALUE=DATE:20260421
DTSTAMP:20260422T043420
CREATED:20260131T021712Z
LAST-MODIFIED:20260323T034020Z
UID:2530-1776556800-1776729599@makinosan.jp
SUMMARY:出店：工房玻璃
DESCRIPTION:［10:00-16:00］佐川町の編み物作家さん。編みぐるみやバイカオウレンのアクセサリー等、思わず手に取りたくなるかわいいアイテムがどっさり！ \n［Instagram］kobo.hari
URL:https://makinosan.jp/event/%e5%87%ba%e5%ba%97%ef%bc%9a%e5%b7%a5%e6%88%bf%e7%8e%bb%e7%92%83-6/
CATEGORIES:出店
END:VEVENT
BEGIN:VEVENT
DTSTART;VALUE=DATE:20260420
DTEND;VALUE=DATE:20260421
DTSTAMP:20260422T043420
CREATED:20250724T065918Z
LAST-MODIFIED:20260323T034148Z
UID:1853-1776643200-1776729599@makinosan.jp
SUMMARY:出店：彩いろ結び
DESCRIPTION:［10:00-16:00］水引・土佐和紙・レジン・プラバン等を使用したアクセサリー＆雑貨やオリジナルぬいぐるみを販売。 \n［Instagram］iroiromusubi
URL:https://makinosan.jp/event/%e5%87%ba%e5%ba%97%ef%bc%9a%e5%bd%a9%e3%81%84%e3%82%8d%e7%b5%90%e3%81%b3-4/
CATEGORIES:出店
END:VEVENT
BEGIN:VEVENT
DTSTART;VALUE=DATE:20260422
DTEND;VALUE=DATE:20260423
DTSTAMP:20260422T043420
CREATED:20260411T065802Z
LAST-MODIFIED:20260411T065802Z
UID:2719-1776816000-1776902399@makinosan.jp
SUMMARY:出店：太陽と月
DESCRIPTION:［10:00-16:00］手づくりのかごやハンドメイド雑貨などの販売 \n［Instagram］life.spring.8
URL:https://makinosan.jp/event/%e5%87%ba%e5%ba%97%ef%bc%9a%e5%a4%aa%e9%99%bd%e3%81%a8%e6%9c%88/
CATEGORIES:出店
END:VEVENT
BEGIN:VEVENT
DTSTART;VALUE=DATE:20260422
DTEND;VALUE=DATE:20260423
DTSTAMP:20260422T043420
CREATED:20260411T065957Z
LAST-MODIFIED:20260411T065957Z
UID:2722-1776816000-1776902399@makinosan.jp
SUMMARY:出店：＆オレンジリボン
DESCRIPTION:［10:00-16:00］ハンドマッサージやハンドメイド雑貨などの販売 \n［Instagram］orange.taiyo7
URL:https://makinosan.jp/event/%e5%87%ba%e5%ba%97%ef%bc%9a%ef%bc%86%e3%82%aa%e3%83%ac%e3%83%b3%e3%82%b8%e3%83%aa%e3%83%9c%e3%83%b3/
CATEGORIES:出店
END:VEVENT
BEGIN:VEVENT
DTSTART;VALUE=DATE:20260424
DTEND;VALUE=DATE:20260425
DTSTAMP:20260422T043420
CREATED:20260115T034137Z
LAST-MODIFIED:20260411T060918Z
UID:2467-1776988800-1777075199@makinosan.jp
SUMMARY:出店：工房亜聖
DESCRIPTION:［10:00-16:00］天然石を使ったブレスレットやピアス、ネイルチップ、和紙を使った雑貨等をバリエーション豊富に販売。 \n［Instagram］koubouasa
URL:https://makinosan.jp/event/%e5%87%ba%e5%ba%97%ef%bc%9a%e5%b7%a5%e6%88%bf%e4%ba%9c%e8%81%96-12/
CATEGORIES:出店
END:VEVENT
BEGIN:VEVENT
DTSTART;VALUE=DATE:20260425
DTEND;VALUE=DATE:20260426
DTSTAMP:20260422T043420
CREATED:20250603T054154Z
LAST-MODIFIED:20260411T061112Z
UID:1539-1777075200-1777161599@makinosan.jp
SUMMARY:出店：ZELE.Riiiii
DESCRIPTION:［10:00-16:00］身につければ、華やかにも爽やかにもなる透明感が涼やかでかわいいアクセサリーの数々。お子様も喜ぶポップなアイテムやワークショップも。 \n［Instagram］zele.riiiii
URL:https://makinosan.jp/event/%e5%87%ba%e5%ba%97%ef%bc%9azele-riiiii-2/
CATEGORIES:出店
END:VEVENT
BEGIN:VEVENT
DTSTART;VALUE=DATE:20260425
DTEND;VALUE=DATE:20260427
DTSTAMP:20260422T043420
CREATED:20250612T053510Z
LAST-MODIFIED:20260411T061015Z
UID:1610-1777075200-1777247999@makinosan.jp
SUMMARY:出店：林商店
DESCRIPTION:［9:00-17:00］出店の度に「全種食べてみたい！」と大好評の、お団子等の和スイーツを販売。お惣菜やご飯のお供も大人気！
URL:https://makinosan.jp/event/%e5%87%ba%e5%ba%97%ef%bc%9a%e6%9e%97%e5%95%86%e5%ba%97/
CATEGORIES:出店グルメ
END:VEVENT
BEGIN:VEVENT
DTSTART;VALUE=DATE:20260426
DTEND;VALUE=DATE:20260427
DTSTAMP:20260422T043420
CREATED:20250530T055925Z
LAST-MODIFIED:20260411T061146Z
UID:1439-1777161600-1777247999@makinosan.jp
SUMMARY:出店：こまち
DESCRIPTION:［10:00-16:00］かわいくファンシーなリボンモチーフのアイテムを販売。おとなもこどももトキメク、ユニークな雑貨が多数。 \n［Instagram］komach0828
URL:https://makinosan.jp/event/%e5%87%ba%e5%ba%97%ef%bc%9a%e3%81%93%e3%81%be%e3%81%a1/
CATEGORIES:出店
END:VEVENT
BEGIN:VEVENT
DTSTART;VALUE=DATE:20260429
DTEND;VALUE=DATE:20260430
DTSTAMP:20260422T043420
CREATED:20250612T050145Z
LAST-MODIFIED:20260411T061328Z
UID:1591-1777420800-1777507199@makinosan.jp
SUMMARY:出店：わんだふるはうす
DESCRIPTION:［10:00-16:00］様々な色・形で美しいオルゴナイトや、キラキラとお部屋を彩るサンキャッチャー等販売。 \n［Instagram］miewanda225
URL:https://makinosan.jp/event/%e5%87%ba%e5%ba%97%ef%bc%9a%e3%82%8f%e3%82%93%e3%81%a0%e3%81%b5%e3%82%8b%e3%81%af%e3%81%86%e3%81%99/
CATEGORIES:出店
END:VEVENT
BEGIN:VEVENT
DTSTART;VALUE=DATE:20260429
DTEND;VALUE=DATE:20260430
DTSTAMP:20260422T043420
CREATED:20250705T074241Z
LAST-MODIFIED:20260411T061251Z
UID:1727-1777420800-1777507199@makinosan.jp
SUMMARY:出店：Kay
DESCRIPTION:［10:00-16:00］上質な天然石と、チタン・ステンレスを使用した永く使っていただけるアクセサリーを販売。 \n［Instagram］keko.ngm
URL:https://makinosan.jp/event/%e5%87%ba%e5%ba%97%ef%bc%9akay-2/
CATEGORIES:出店
END:VEVENT
BEGIN:VEVENT
DTSTART;VALUE=DATE:20260429
DTEND;VALUE=DATE:20260430
DTSTAMP:20260422T043420
CREATED:20250819T023155Z
LAST-MODIFIED:20260411T061415Z
UID:1971-1777420800-1777507199@makinosan.jp
SUMMARY:出店：RiVi DENIM
DESCRIPTION:［10:00-16:00 ］古着デニムをホームクリーニングし、バッグやポーチ・ヘアアクセサリー・サコッシュ等、様々なアイテムにリメイクし販売！ \n［Instagram］rivi_denim
URL:https://makinosan.jp/event/%e5%87%ba%e5%ba%97%ef%bc%9arivi-denim-4/
CATEGORIES:出店
END:VEVENT
BEGIN:VEVENT
DTSTART;VALUE=DATE:20260430
DTEND;VALUE=DATE:20260501
DTSTAMP:20260422T043420
CREATED:20250620T005708Z
LAST-MODIFIED:20260411T062937Z
UID:1642-1777507200-1777593599@makinosan.jp
SUMMARY:出店：あ・わ
DESCRIPTION:［11:00-15:00］丁寧に手作りされた布ぞおりや、バタフライピー（茶葉 他）等を販売。 \n［Instagram］shuuraku_awa_
URL:https://makinosan.jp/event/%e5%87%ba%e5%ba%97%ef%bc%9a%e3%81%82%e3%83%bb%e3%82%8f/
CATEGORIES:出店
END:VEVENT
END:VCALENDAR