BEGIN:VCALENDAR
VERSION:2.0
PRODID:-//まきのさんの道の駅・佐川 - ECPv6.15.12.2//NONSGML v1.0//EN
CALSCALE:GREGORIAN
METHOD:PUBLISH
X-ORIGINAL-URL:https://makinosan.jp
X-WR-CALDESC:まきのさんの道の駅・佐川 のイベント
REFRESH-INTERVAL;VALUE=DURATION:PT1H
X-Robots-Tag:noindex
X-PUBLISHED-TTL:PT1H
BEGIN:VTIMEZONE
TZID:Asia/Tokyo
BEGIN:STANDARD
TZOFFSETFROM:+0900
TZOFFSETTO:+0900
TZNAME:JST
DTSTART:20250101T000000
END:STANDARD
END:VTIMEZONE
BEGIN:VEVENT
DTSTART;VALUE=DATE:20260311
DTEND;VALUE=DATE:20260312
DTSTAMP:20260422T043537
CREATED:20250620T010836Z
LAST-MODIFIED:20260205T042713Z
UID:1644-1773187200-1773273599@makinosan.jp
SUMMARY:出店：わんだふるはうす
DESCRIPTION:［10:00-16:00］様々な色・形で美しいオルゴナイトや、キラキラとお部屋を彩るサンキャッチャー等販売。 \n［Instagram］miewanda225
URL:https://makinosan.jp/event/%e5%87%ba%e5%ba%97%ef%bc%9a%e3%82%8f%e3%82%93%e3%81%a0%e3%81%b5%e3%82%8b%e3%81%af%e3%81%86%e3%81%99-2/
CATEGORIES:出店
END:VEVENT
BEGIN:VEVENT
DTSTART;VALUE=DATE:20260311
DTEND;VALUE=DATE:20260312
DTSTAMP:20260422T043537
CREATED:20251008T045137Z
LAST-MODIFIED:20260302T002413Z
UID:2106-1773187200-1773273599@makinosan.jp
SUMMARY:出店：春水工房
DESCRIPTION:［10:00-16:00］きめこみパッチワークや押絵等、丁寧に手作りされたアイテムが色々！お部屋を彩ったり、贈り物にもオススメです。 \n［Instagram］y.a.0923.0806
URL:https://makinosan.jp/event/%e5%87%ba%e5%ba%97%ef%bc%9a%e6%98%a5%e6%b0%b4%e5%b7%a5%e6%88%bf/
CATEGORIES:出店
END:VEVENT
BEGIN:VEVENT
DTSTART;VALUE=DATE:20260313
DTEND;VALUE=DATE:20260314
DTSTAMP:20260422T043537
CREATED:20250521T043739Z
LAST-MODIFIED:20260205T042841Z
UID:1393-1773360000-1773446399@makinosan.jp
SUMMARY:出店：momotherapist
DESCRIPTION:［11:00-16:00］耳つぼジュエリーやカラーセラピー、占いを実施。楽しく色んなことを語らいながら、癒しのひとときを。お気軽に体験してみてください。 \n［Instagram］momotherapist.0313 \n \n 
URL:https://makinosan.jp/event/%e3%80%90%e5%87%ba%e5%ba%97%e3%80%91momotherapist/
CATEGORIES:出店
END:VEVENT
BEGIN:VEVENT
DTSTART;VALUE=DATE:20260313
DTEND;VALUE=DATE:20260314
DTSTAMP:20260422T043537
CREATED:20260103T015056Z
LAST-MODIFIED:20260226T054345Z
UID:2405-1773360000-1773446399@makinosan.jp
SUMMARY:出店：OMOYO Oraculum
DESCRIPTION:［11:00-14:00］カードリーディングによる占いを実施。お気軽にお悩みを相談してみませんか？ \n［Instagram］omoyooraculum
URL:https://makinosan.jp/event/%e5%87%ba%e5%ba%97%ef%bc%9aomoyo-oracular/
CATEGORIES:出店
END:VEVENT
BEGIN:VEVENT
DTSTART;VALUE=DATE:20260314
DTEND;VALUE=DATE:20260315
DTSTAMP:20260422T043537
CREATED:20250813T080307Z
LAST-MODIFIED:20260205T043135Z
UID:1926-1773446400-1773532799@makinosan.jp
SUMMARY:出店：nikolaschka
DESCRIPTION:［10:00-16:00］ピアスやイヤリング等、アクセサリーを中心としたスタイルや生活を彩るアイテムを販売。 \n［Instagram］nikolaschka.shop
URL:https://makinosan.jp/event/%e5%87%ba%e5%ba%97%ef%bc%9anikolaschka-2/
CATEGORIES:出店
END:VEVENT
BEGIN:VEVENT
DTSTART;VALUE=DATE:20260314
DTEND;VALUE=DATE:20260316
DTSTAMP:20260422T043537
CREATED:20250724T065520Z
LAST-MODIFIED:20260205T043159Z
UID:1849-1773446400-1773619199@makinosan.jp
SUMMARY:出店：ZELE.Riiiii
DESCRIPTION:［11:00-16:00］身につければ、華やかにも爽やかにもなる透明感が涼やかでかわいいアクセサリーの数々。お子様も喜ぶポップなアイテムやワークショップも。 \n［Instagram］zele.riiiii
URL:https://makinosan.jp/event/%e5%87%ba%e5%ba%97%ef%bc%9azele-riiiii-4/
CATEGORIES:出店
END:VEVENT
BEGIN:VEVENT
DTSTART;VALUE=DATE:20260315
DTEND;VALUE=DATE:20260316
DTSTAMP:20260422T043537
CREATED:20250724T062744Z
LAST-MODIFIED:20260205T043340Z
UID:1828-1773532800-1773619199@makinosan.jp
SUMMARY:出店：彩いろ結び
DESCRIPTION:［10:00-16:00］水引・土佐和紙・レジン・プラバン等を使用したアクセサリー＆雑貨やオリジナルぬいぐるみを販売。 \n［Instagram］iroiromusubi
URL:https://makinosan.jp/event/%e5%87%ba%e5%ba%97%ef%bc%9a%e5%bd%a9%e3%81%84%e3%82%8d%e7%b5%90%e3%81%b3-3/
CATEGORIES:出店
END:VEVENT
BEGIN:VEVENT
DTSTART;VALUE=DATE:20260316
DTEND;VALUE=DATE:20260317
DTSTAMP:20260422T043537
CREATED:20251029T002130Z
LAST-MODIFIED:20260205T043524Z
UID:2163-1773619200-1773705599@makinosan.jp
SUMMARY:出店：工房亜聖
DESCRIPTION:［10:00-16:00］天然石を使ったブレスレットやピアス、ネイルチップ、和紙を使った雑貨等をバリエーション豊富に販売。 \n［Instagram］koubouasa
URL:https://makinosan.jp/event/%e5%87%ba%e5%ba%97%ef%bc%9a%e5%b7%a5%e6%88%bf%e4%ba%9c%e8%81%96/
CATEGORIES:出店
END:VEVENT
BEGIN:VEVENT
DTSTART;VALUE=DATE:20260316
DTEND;VALUE=DATE:20260317
DTSTAMP:20260422T043537
CREATED:20260309T065702Z
LAST-MODIFIED:20260313T030829Z
UID:2638-1773619200-1773705599@makinosan.jp
SUMMARY:米粉のお菓子販売会〈津野町 葉山中学校〉
DESCRIPTION:［9:30-14:45（予定）］\n津野町の葉山中学校の皆さんが、自分たちが作ったお米を使ったお菓子の販売会を実施！\nぜひこの機会にお楽しみください♪\n※商品がなくなり次第、販売終了となります。
URL:https://makinosan.jp/event/%e7%b1%b3%e7%b2%89%e3%81%ae%e3%81%8a%e8%8f%93%e5%ad%90%e8%b2%a9%e5%a3%b2%e4%bc%9a%e3%80%88%e6%b4%a5%e9%87%8e%e7%94%ba-%e8%91%89%e5%b1%b1%e4%b8%ad%e5%ad%a6%e6%a0%a1%e3%80%89/
CATEGORIES:イベント
END:VEVENT
BEGIN:VEVENT
DTSTART;VALUE=DATE:20260316
DTEND;VALUE=DATE:20260318
DTSTAMP:20260422T043537
CREATED:20250703T013551Z
LAST-MODIFIED:20260302T010212Z
UID:1703-1773619200-1773791999@makinosan.jp
SUMMARY:出店：魔女と月の樹
DESCRIPTION:［11:00-16:00］“魔女が使いそうな道具・雑貨”がコンセプトの幻想雑貨やアクセサリーを販売。タロット占い・ワークショップも好評！ \n［Instagram］m.yuzuko667
URL:https://makinosan.jp/event/%e5%87%ba%e5%ba%97%ef%bc%9a%e9%ad%94%e5%a5%b3%e3%81%a8%e6%9c%88%e3%81%ae%e6%a8%b9-2/
CATEGORIES:出店
END:VEVENT
BEGIN:VEVENT
DTSTART;VALUE=DATE:20260318
DTEND;VALUE=DATE:20260320
DTSTAMP:20260422T043537
CREATED:20260205T043907Z
LAST-MODIFIED:20260205T043907Z
UID:2546-1773792000-1773964799@makinosan.jp
SUMMARY:出店：工房玻璃
DESCRIPTION:［10:00-16:00］佐川町の編み物作家さん。編みぐるみやバイカオウレンのアクセサリー等、思わず手に取りたくなるかわいいアイテムがどっさり！ \n［Instagram］kobo.hari
URL:https://makinosan.jp/event/%e5%87%ba%e5%ba%97%ef%bc%9a%e5%b7%a5%e6%88%bf%e7%8e%bb%e7%92%83-7/
CATEGORIES:出店
END:VEVENT
BEGIN:VEVENT
DTSTART;VALUE=DATE:20260319
DTEND;VALUE=DATE:20260320
DTSTAMP:20260422T043537
CREATED:20251029T011732Z
LAST-MODIFIED:20260205T043941Z
UID:2190-1773878400-1773964799@makinosan.jp
SUMMARY:出店：工房亜聖
DESCRIPTION:［10:00-16:00］天然石を使ったブレスレットやピアス、ネイルチップ、和紙を使った雑貨等をバリエーション豊富に販売。 \n［Instagram］koubouasa
URL:https://makinosan.jp/event/%e5%87%ba%e5%ba%97%ef%bc%9a%e5%b7%a5%e6%88%bf%e4%ba%9c%e8%81%96-3/
CATEGORIES:出店
END:VEVENT
BEGIN:VEVENT
DTSTART;VALUE=DATE:20260320
DTEND;VALUE=DATE:20260323
DTSTAMP:20260422T043537
CREATED:20260117T065240Z
LAST-MODIFIED:20260307T002947Z
UID:2481-1773964800-1774223999@makinosan.jp
SUMMARY:出店：林商店
DESCRIPTION:［9:00-17:00］出店の度に「全種食べてみたい！」と大好評の、お団子等の和スイーツを販売。お惣菜やご飯のお供も大人気！ \n   \n 
URL:https://makinosan.jp/event/%e5%87%ba%e5%ba%97%ef%bc%9a%e6%9e%97%e5%95%86%e5%ba%97-2/
CATEGORIES:出店グルメ
END:VEVENT
BEGIN:VEVENT
DTSTART;VALUE=DATE:20260320
DTEND;VALUE=DATE:20260321
DTSTAMP:20260422T043537
CREATED:20250819T015924Z
LAST-MODIFIED:20260307T011536Z
UID:1951-1773964800-1774051199@makinosan.jp
SUMMARY:出店：mirimiri shop
DESCRIPTION:［10:00-16:00］インテリアにも贈り物にもオススメの、毛糸を使用した“枯れない”お花を販売。ステキにラッピングしてお渡し！手元を彩るネイルチップの販売も。 \n［Instagram］mirimiri_amiami\n［Instagram］mirimiri__shop
URL:https://makinosan.jp/event/%e5%87%ba%e5%ba%97%ef%bc%9amirimiri-shop/
CATEGORIES:出店
END:VEVENT
BEGIN:VEVENT
DTSTART;VALUE=DATE:20260321
DTEND;VALUE=DATE:20260322
DTSTAMP:20260422T043537
CREATED:20251016T010514Z
LAST-MODIFIED:20260307T011651Z
UID:2129-1774051200-1774137599@makinosan.jp
SUMMARY:出店：SABOCK
DESCRIPTION:［10:00-16:00］毛糸＆羊毛フェルトで作られたサボテンや植物たちがとってもかわいい！お部屋や仕事机を彩ったり、贈り物にもオススメです。 \n［Instagram］sabock.k
URL:https://makinosan.jp/event/%e5%87%ba%e5%ba%97%ef%bc%9asabock/
CATEGORIES:出店
END:VEVENT
BEGIN:VEVENT
DTSTART;VALUE=DATE:20260321
DTEND;VALUE=DATE:20260325
DTSTAMP:20260422T043537
CREATED:20260309T061436Z
LAST-MODIFIED:20260321T034719Z
UID:2634-1774051200-1774396799@makinosan.jp
SUMMARY:【多目的スペース】reene展
DESCRIPTION:土佐和紙や本物のお花などを使ったアクセサリーを作られている高知のハンドメイド作家〈reene〉さん。今回、天然石や貝がら、レジンなどを使った高知の風景を思わせるアート作品の展示とまるでアート作品のようなアクセサリーの販売を実施。ぜひお楽しみください！ \n■reene展\n■期間：2026年3月21（土）～24日（火）\n■時間（予定）：11:00〜16:00　※最終日は15:00まで【reeneさんInstagram】reene1120
URL:https://makinosan.jp/event/%e3%80%90%e5%a4%9a%e7%9b%ae%e7%9a%84%e3%82%b9%e3%83%9a%e3%83%bc%e3%82%b9%e3%80%91reene%e5%b1%95/
CATEGORIES:多目的スペース
END:VEVENT
BEGIN:VEVENT
DTSTART;VALUE=DATE:20260321
DTEND;VALUE=DATE:20260322
DTSTAMP:20260422T043537
CREATED:20250806T051022Z
LAST-MODIFIED:20260307T011624Z
UID:1881-1774051200-1774137599@makinosan.jp
SUMMARY:出店：森のペンギン
DESCRIPTION:［11:00-16:00 ※雨天中止の場合あり］自家焙煎のおいしいコーヒーで一息つきませんか？コーヒーが苦手な方には、はちみつ柚子やはちみつジンジャー等のドリンクも！ \n［Instagram］morinopenguin
URL:https://makinosan.jp/event/%e5%87%ba%e5%ba%97%ef%bc%9a%e6%a3%ae%e3%81%ae%e3%83%9a%e3%83%b3%e3%82%ae%e3%83%b3-2/
CATEGORIES:出店グルメ
END:VEVENT
BEGIN:VEVENT
DTSTART;VALUE=DATE:20260322
DTEND;VALUE=DATE:20260323
DTSTAMP:20260422T043537
CREATED:20250806T050119Z
LAST-MODIFIED:20260307T011725Z
UID:1875-1774137600-1774223999@makinosan.jp
SUMMARY:出店：RiVi DENIM
DESCRIPTION:［10:00-16:00］古着デニムをホームクリーニングし、バッグやポーチ・ヘアアクセサリー・サコッシュ等、様々なアイテムにリメイクし販売！ \n［Instagram］rivi_denim
URL:https://makinosan.jp/event/%e5%87%ba%e5%ba%97%ef%bc%9arivi-denim-3/
CATEGORIES:出店
END:VEVENT
BEGIN:VEVENT
DTSTART;VALUE=DATE:20260323
DTEND;VALUE=DATE:20260324
DTSTAMP:20260422T043537
CREATED:20251029T010835Z
LAST-MODIFIED:20260307T011831Z
UID:2188-1774224000-1774310399@makinosan.jp
SUMMARY:出店：工房亜聖
DESCRIPTION:［10:00-16:00］天然石を使ったブレスレットやピアス、ネイルチップ、和紙を使った雑貨等をバリエーション豊富に販売。 \n［Instagram］koubouasa
URL:https://makinosan.jp/event/%e5%87%ba%e5%ba%97%ef%bc%9a%e5%b7%a5%e6%88%bf%e4%ba%9c%e8%81%96-2/
CATEGORIES:出店
END:VEVENT
BEGIN:VEVENT
DTSTART;VALUE=DATE:20260324
DTEND;VALUE=DATE:20260325
DTSTAMP:20260422T043537
CREATED:20260314T071132Z
LAST-MODIFIED:20260314T071301Z
UID:2646-1774310400-1774396799@makinosan.jp
SUMMARY:出店：メナード化粧品フェイシャルサロンさかわ
DESCRIPTION:［10:00～15:00］町内でおなじみのサロンから、癒しのハンドマッサージをご提供。季節の変わり目、特にケアしたい手指を労るひとときを。 \n［Instagram］menardsakawa_523
URL:https://makinosan.jp/event/%e5%87%ba%e5%ba%97%ef%bc%9a%e3%83%a1%e3%83%8a%e3%83%bc%e3%83%89%e5%8c%96%e7%b2%a7%e5%93%81%e3%83%95%e3%82%a7%e3%82%a4%e3%82%b7%e3%83%a3%e3%83%ab%e3%82%b5%e3%83%ad%e3%83%b3%e3%81%95%e3%81%8b%e3%82%8f/
CATEGORIES:出店
END:VEVENT
BEGIN:VEVENT
DTSTART;VALUE=DATE:20260324
DTEND;VALUE=DATE:20260326
DTSTAMP:20260422T043537
CREATED:20260208T005624Z
LAST-MODIFIED:20260307T011925Z
UID:2560-1774310400-1774483199@makinosan.jp
SUMMARY:出店：工房玻璃
DESCRIPTION:［10:00-16:00］佐川町の編み物作家さん。編みぐるみやバイカオウレンのアクセサリー等、思わず手に取りたくなるかわいいアイテムがどっさり！ \n［Instagram］kobo.hari
URL:https://makinosan.jp/event/%e5%87%ba%e5%ba%97%ef%bc%9a%e5%b7%a5%e6%88%bf%e7%8e%bb%e7%92%83-8/
CATEGORIES:出店
END:VEVENT
BEGIN:VEVENT
DTSTART;VALUE=DATE:20260326
DTEND;VALUE=DATE:20260327
DTSTAMP:20260422T043537
CREATED:20250717T011140Z
LAST-MODIFIED:20260307T012024Z
UID:1787-1774483200-1774569599@makinosan.jp
SUMMARY:出店：SUZURAN
DESCRIPTION:［10:00-16:00］ハンドメイド雑貨やヘアアクセサリーを販売。自分だけのカスタムアイテムを作るワークショップも開催！ \n［Instagram］suzuran.ym2
URL:https://makinosan.jp/event/%e5%87%ba%e5%ba%97%ef%bc%9asuzuran/
CATEGORIES:出店
END:VEVENT
BEGIN:VEVENT
DTSTART;VALUE=DATE:20260326
DTEND;VALUE=DATE:20260327
DTSTAMP:20260422T043537
CREATED:20260115T030708Z
LAST-MODIFIED:20260307T011856Z
UID:2439-1774483200-1774569599@makinosan.jp
SUMMARY:出店：工房亜聖
DESCRIPTION:［10:00-16:00］天然石を使ったブレスレットやピアス、ネイルチップ、和紙を使った雑貨等をバリエーション豊富に販売。 \n［Instagram］koubouasa
URL:https://makinosan.jp/event/%e5%87%ba%e5%ba%97%ef%bc%9a%e5%b7%a5%e6%88%bf%e4%ba%9c%e8%81%96-8/
CATEGORIES:出店
END:VEVENT
BEGIN:VEVENT
DTSTART;VALUE=DATE:20260327
DTEND;VALUE=DATE:20260329
DTSTAMP:20260422T043537
CREATED:20250603T054048Z
LAST-MODIFIED:20260307T012048Z
UID:1535-1774569600-1774742399@makinosan.jp
SUMMARY:出店：corretto.RINDA
DESCRIPTION:［10:00-16:00］動物や花モチーフが華やかでかわいい！レジンとビーズのアクセサリーや雑貨を販売。 \n［Instagram］corretto.handmade
URL:https://makinosan.jp/event/%e5%87%ba%e5%ba%97%ef%bc%9acorretto-rinda/
CATEGORIES:出店
END:VEVENT
BEGIN:VEVENT
DTSTART;VALUE=DATE:20260328
DTEND;VALUE=DATE:20260329
DTSTAMP:20260422T043537
CREATED:20251217T031332Z
LAST-MODIFIED:20260307T012110Z
UID:2342-1774656000-1774742399@makinosan.jp
SUMMARY:出店：レストラン モルゲン
DESCRIPTION:［10:00-16:00］愛媛県久万高原町から出店！洋食屋さんのジューシーな肉まんを召し上がれ! \n［Instagram］morgen_1972
URL:https://makinosan.jp/event/%e5%87%ba%e5%ba%97%ef%bc%9a%e3%83%ac%e3%82%b9%e3%83%88%e3%83%a9%e3%83%b3-%e3%83%a2%e3%83%ab%e3%82%b2%e3%83%b3-3/
CATEGORIES:出店グルメ
END:VEVENT
BEGIN:VEVENT
DTSTART;VALUE=DATE:20260328
DTEND;VALUE=DATE:20260329
DTSTAMP:20260422T043537
CREATED:20260307T005605Z
LAST-MODIFIED:20260307T012124Z
UID:2602-1774656000-1774742399@makinosan.jp
SUMMARY:出店：SALAN TITI
DESCRIPTION:［10:00-16:00 ※雨天中止の場合あり］種類たっぷり！お気に入りの1着にきっと出会える、韓国こども服のセレクトショップ \n［Instagram］salan.titi
URL:https://makinosan.jp/event/%e5%87%ba%e5%ba%97%ef%bc%9asalan-titi/
CATEGORIES:出店
END:VEVENT
BEGIN:VEVENT
DTSTART;VALUE=DATE:20260329
DTEND;VALUE=DATE:20260330
DTSTAMP:20260422T043537
CREATED:20250813T071957Z
LAST-MODIFIED:20260307T011352Z
UID:1915-1774742400-1774828799@makinosan.jp
SUMMARY:出店：あ・わ
DESCRIPTION:［11:00-15:00］佐川町のお隣・須崎市の安和からご出店！モリンガ茶、バタフライピー（茶葉 他）等を販売。 \n［Instagram］shuuraku_awa_
URL:https://makinosan.jp/event/%e5%87%ba%e5%ba%97%ef%bc%9a%e3%81%82%e3%83%bb%e3%82%8f-2/
CATEGORIES:出店
END:VEVENT
BEGIN:VEVENT
DTSTART;VALUE=DATE:20260330
DTEND;VALUE=DATE:20260331
DTSTAMP:20260422T043537
CREATED:20250603T054343Z
LAST-MODIFIED:20260307T012414Z
UID:1541-1774828800-1774915199@makinosan.jp
SUMMARY:出店：ハンドメイドk
DESCRIPTION:［10:00-16:00］猫モチーフのアイテムやアクセサリーを中心に、あれもこれもと欲しくなる商品がたくさん！ \n［Instagram］ka.tsuchi
URL:https://makinosan.jp/event/%e5%87%ba%e5%ba%97%ef%bc%9a%e3%83%8f%e3%83%b3%e3%83%89%e3%83%a1%e3%82%a4%e3%83%89k-3/
CATEGORIES:出店
END:VEVENT
BEGIN:VEVENT
DTSTART;VALUE=DATE:20260330
DTEND;VALUE=DATE:20260401
DTSTAMP:20260422T043537
CREATED:20250915T003720Z
LAST-MODIFIED:20260307T012529Z
UID:2038-1774828800-1775001599@makinosan.jp
SUMMARY:出店：coco crepe
DESCRIPTION:［10:00-17:00 ※雨天中止の場合あり］生地がおいしい！人気のクレープ屋さんの移動販売。観光やドライブのお供に種類豊富なクレープはいかが？
URL:https://makinosan.jp/event/%e5%87%ba%e5%ba%97%ef%bc%9acoco-crepe-3/
CATEGORIES:出店グルメ
END:VEVENT
BEGIN:VEVENT
DTSTART;VALUE=DATE:20260330
DTEND;VALUE=DATE:20260401
DTSTAMP:20260422T043537
CREATED:20251217T034314Z
LAST-MODIFIED:20260307T012254Z
UID:2351-1774828800-1775001599@makinosan.jp
SUMMARY:出店：工房玻璃
DESCRIPTION:［10:00-16:00］佐川町の編み物作家さん。編みぐるみやバイカオウレンのアクセサリー等、思わず手に取りたくなるかわいいアイテムがどっさり！ \n［Instagram］kobo.hari
URL:https://makinosan.jp/event/%e5%87%ba%e5%ba%97%ef%bc%9a%e5%b7%a5%e6%88%bf%e7%8e%bb%e7%92%83/
CATEGORIES:出店
END:VEVENT
END:VCALENDAR